BEGIN:VCALENDAR
VERSION:2.0
PRODID:-//Kielipankki - ECPv6.15.20//NONSGML v1.0//EN
CALSCALE:GREGORIAN
METHOD:PUBLISH
X-ORIGINAL-URL:https://www.kielipankki.fi
X-WR-CALDESC:Tapahtumat Kielipankki
REFRESH-INTERVAL;VALUE=DURATION:PT1H
X-Robots-Tag:noindex
X-PUBLISHED-TTL:PT1H
BEGIN:VTIMEZONE
TZID:Europe/Helsinki
BEGIN:DAYLIGHT
TZOFFSETFROM:+0200
TZOFFSETTO:+0300
TZNAME:EEST
DTSTART:20210328T010000
END:DAYLIGHT
BEGIN:STANDARD
TZOFFSETFROM:+0300
TZOFFSETTO:+0200
TZNAME:EET
DTSTART:20211031T010000
END:STANDARD
BEGIN:DAYLIGHT
TZOFFSETFROM:+0200
TZOFFSETTO:+0300
TZNAME:EEST
DTSTART:20220327T010000
END:DAYLIGHT
BEGIN:STANDARD
TZOFFSETFROM:+0300
TZOFFSETTO:+0200
TZNAME:EET
DTSTART:20221030T010000
END:STANDARD
BEGIN:DAYLIGHT
TZOFFSETFROM:+0200
TZOFFSETTO:+0300
TZNAME:EEST
DTSTART:20230326T010000
END:DAYLIGHT
BEGIN:STANDARD
TZOFFSETFROM:+0300
TZOFFSETTO:+0200
TZNAME:EET
DTSTART:20231029T010000
END:STANDARD
END:VTIMEZONE
BEGIN:VEVENT
DTSTART;TZID=Europe/Helsinki:20221117T141500
DTEND;TZID=Europe/Helsinki:20221117T160000
DTSTAMP:20260424T062926
CREATED:20221006T105151Z
LAST-MODIFIED:20221117T125614Z
UID:21418-1668694500-1668700800@www.kielipankki.fi
SUMMARY:SSH-infrastuktuurit esittäytyvät: Nuorten hyvinvointi -seminaari Turussa
DESCRIPTION:SSH-infrastuktuurit esittäytyvät Nuorten hyvinvointi -seminaarissa\nYhteiskuntatieteiden ja humanististen tieteiden tutkimusinfrastruktuurit FIN-CLARIN/Kielipankki\, European Social Survey (ESS)\, Tietoarkisto ja FIRIPO esittäytyvät Turun yliopistolla 17.11.2022 klo 14.15-16.00. Osallistua voi joko paikan päällä Publicumissa (Assistentinkatu 7\, sali Pub 5) tai etänä Zoomin välityksellä. \nOhjelma ja lisätiedot: https://sites.utu.fi/europeansocialsurvey/shh-infrastuktuurien-seminaari/ \nKielipankin esittely ja syömishäiriöiden tutkimusta Suomi24-aineistolla (Mietta Lennes\, PDF\, 19M)
URL:https://www.kielipankki.fi/tapahtumat/infraseminaari-turussa-2022-11-17/
LOCATION:Turun yliopisto\, Publicum\, Assistentinkatu 7\, Turku\, Suomi
CATEGORIES:Kongressit, seminaarit ja työpajat
END:VEVENT
END:VCALENDAR