BEGIN:VCALENDAR
VERSION:2.0
PRODID:-//Kielipankki - ECPv6.15.20//NONSGML v1.0//EN
CALSCALE:GREGORIAN
METHOD:PUBLISH
X-ORIGINAL-URL:https://www.kielipankki.fi
X-WR-CALDESC:Tapahtumat Kielipankki
REFRESH-INTERVAL;VALUE=DURATION:PT1H
X-Robots-Tag:noindex
X-PUBLISHED-TTL:PT1H
BEGIN:VTIMEZONE
TZID:Europe/Helsinki
BEGIN:DAYLIGHT
TZOFFSETFROM:+0200
TZOFFSETTO:+0300
TZNAME:EEST
DTSTART:20160327T010000
END:DAYLIGHT
BEGIN:STANDARD
TZOFFSETFROM:+0300
TZOFFSETTO:+0200
TZNAME:EET
DTSTART:20161030T010000
END:STANDARD
BEGIN:DAYLIGHT
TZOFFSETFROM:+0200
TZOFFSETTO:+0300
TZNAME:EEST
DTSTART:20170326T010000
END:DAYLIGHT
BEGIN:STANDARD
TZOFFSETFROM:+0300
TZOFFSETTO:+0200
TZNAME:EET
DTSTART:20171029T010000
END:STANDARD
BEGIN:DAYLIGHT
TZOFFSETFROM:+0200
TZOFFSETTO:+0300
TZNAME:EEST
DTSTART:20180325T010000
END:DAYLIGHT
BEGIN:STANDARD
TZOFFSETFROM:+0300
TZOFFSETTO:+0200
TZNAME:EET
DTSTART:20181028T010000
END:STANDARD
END:VTIMEZONE
BEGIN:VEVENT
DTSTART;TZID=Europe/Helsinki:20170116T000000
DTEND;TZID=Europe/Helsinki:20170116T235959
DTSTAMP:20260424T104237
CREATED:20160812T130213Z
LAST-MODIFIED:20160812T131827Z
UID:2352-1484524800-1484611199@www.kielipankki.fi
SUMMARY:Korpuslingvistiikan johdantokurssi alkaa
DESCRIPTION:FIN-CLARIN järjestää korpuslingvistiikan johdantokurssin 16.1.-3.3.2017. \nKurssi suoritetaan kokonaan etäopiskeluna Moodle-oppimisympäristössä. Mukaan mahtuvat lähtökohtaisesti kaikki halukkaat ja sille voi osallistua myös muista yliopistoista käsin. Lisätietoa ja ilmoittautumisohjeet löytyvät kurssin kotisivulta (ks. ohessa).
URL:https://www.kielipankki.fi/tapahtumat/korpuslingvistiikan-johdantokurssi-2017k/
LOCATION:Moodle-verkkokurssi\, Suomi
CATEGORIES:Koulutus
ORGANIZER;CN="FIN-CLARIN":MAILTO:fin-clarin (ATT) helsinki.fi
END:VEVENT
END:VCALENDAR