BEGIN:VCALENDAR
VERSION:2.0
PRODID:-//Kielipankki - ECPv6.15.20//NONSGML v1.0//EN
CALSCALE:GREGORIAN
METHOD:PUBLISH
X-WR-CALNAME:Kielipankki
X-ORIGINAL-URL:https://www.kielipankki.fi
X-WR-CALDESC:Tapahtumat Kielipankki
REFRESH-INTERVAL;VALUE=DURATION:PT1H
X-Robots-Tag:noindex
X-PUBLISHED-TTL:PT1H
BEGIN:VTIMEZONE
TZID:Europe/Helsinki
BEGIN:DAYLIGHT
TZOFFSETFROM:+0200
TZOFFSETTO:+0300
TZNAME:EEST
DTSTART:20160327T010000
END:DAYLIGHT
BEGIN:STANDARD
TZOFFSETFROM:+0300
TZOFFSETTO:+0200
TZNAME:EET
DTSTART:20161030T010000
END:STANDARD
BEGIN:DAYLIGHT
TZOFFSETFROM:+0200
TZOFFSETTO:+0300
TZNAME:EEST
DTSTART:20170326T010000
END:DAYLIGHT
BEGIN:STANDARD
TZOFFSETFROM:+0300
TZOFFSETTO:+0200
TZNAME:EET
DTSTART:20171029T010000
END:STANDARD
BEGIN:DAYLIGHT
TZOFFSETFROM:+0200
TZOFFSETTO:+0300
TZNAME:EEST
DTSTART:20180325T010000
END:DAYLIGHT
BEGIN:STANDARD
TZOFFSETFROM:+0300
TZOFFSETTO:+0200
TZNAME:EET
DTSTART:20181028T010000
END:STANDARD
END:VTIMEZONE
BEGIN:VEVENT
DTSTART;VALUE=DATE:20170518
DTEND;VALUE=DATE:20170521
DTSTAMP:20260425T141644
CREATED:20170123T131238Z
LAST-MODIFIED:20181031T132819Z
UID:3515-1495065600-1495324799@www.kielipankki.fi
SUMMARY:XLIV Kielitieteen päivät
DESCRIPTION:XLIV Kielitieteen päivät järjestetään Jyväskylässä. Päivien teemana on Suomi 100 vuotta – näkökulmia kielentutkimuksen historiaan ja tulevaisuuteen. \n  \nFIN-CLARINin esityksiä Kielitieteen päivillä\nMietta Lennes ja Jussi Piitulainen: Mylly: Uusi tapa käsitellä teksti- ja puheaineistoa helposti ja tehokkaasti \nMietta Lennes: Tieteellinen prosessi? Paneelikeskustelun alustus. \nMietta Lennes: Puhenäytteiden mittailusta puhekorpuksen perkuuseen: kalastelua mato-ongella ja verkoilla. Esitys Langnetin korpuslingvistiikan resurssiryhmän järjestämässä työpajassa Korpuksesta dataan – tutkijan X‐Files.
URL:https://www.kielipankki.fi/tapahtumat/xliv-kielitieteen-paivat/
LOCATION:Jyväskylän yliopisto\, Seminaarinkatu 15\, Jyväskylä\, Suomi
CATEGORIES:Kongressit, seminaarit ja työpajat
END:VEVENT
END:VCALENDAR