BEGIN:VCALENDAR
VERSION:2.0
PRODID:-//Kielipankki - ECPv6.15.20//NONSGML v1.0//EN
CALSCALE:GREGORIAN
METHOD:PUBLISH
X-ORIGINAL-URL:https://www.kielipankki.fi
X-WR-CALDESC:Tapahtumat Kielipankki
REFRESH-INTERVAL;VALUE=DURATION:PT1H
X-Robots-Tag:noindex
X-PUBLISHED-TTL:PT1H
BEGIN:VTIMEZONE
TZID:Europe/Helsinki
BEGIN:DAYLIGHT
TZOFFSETFROM:+0200
TZOFFSETTO:+0300
TZNAME:EEST
DTSTART:20160327T010000
END:DAYLIGHT
BEGIN:STANDARD
TZOFFSETFROM:+0300
TZOFFSETTO:+0200
TZNAME:EET
DTSTART:20161030T010000
END:STANDARD
BEGIN:DAYLIGHT
TZOFFSETFROM:+0200
TZOFFSETTO:+0300
TZNAME:EEST
DTSTART:20170326T010000
END:DAYLIGHT
BEGIN:STANDARD
TZOFFSETFROM:+0300
TZOFFSETTO:+0200
TZNAME:EET
DTSTART:20171029T010000
END:STANDARD
BEGIN:DAYLIGHT
TZOFFSETFROM:+0200
TZOFFSETTO:+0300
TZNAME:EEST
DTSTART:20180325T010000
END:DAYLIGHT
BEGIN:STANDARD
TZOFFSETFROM:+0300
TZOFFSETTO:+0200
TZNAME:EET
DTSTART:20181028T010000
END:STANDARD
END:VTIMEZONE
BEGIN:VEVENT
DTSTART;TZID=Europe/Helsinki:20170515T131500
DTEND;TZID=Europe/Helsinki:20170515T153000
DTSTAMP:20260425T142018
CREATED:20170425T132833Z
LAST-MODIFIED:20170515T090113Z
UID:4174-1494854100-1494862200@www.kielipankki.fi
SUMMARY:Kielipankki Roadshow at Helsinki Collegium of Advanced Studies
DESCRIPTION:Kielipankki on tour at Helsinki Collegium of Advanced Studies\nThe Language Bank of Finland will visit Helsinki Collegium of Advanced Studies on Monday\, 15th May. The event will be held in English and it is open to all researchers and staff in the University of Helsinki. Welcome to see and hear what the Language Bank offers for researchers in Humanities and Social Sciences! \nDuring the event\, you will also have the possibility to ask questions about sharing your research materials and about other services provided by FIN-CLARIN and the Language Bank of Finland. \nLocation: Helsinki Collegium of Advanced Studies\, seminar room 136 (1st floor) \nIn order to estimate the amount of refreshments\, we kindly ask you to register by Wednesday\, 10th May. Registration is not obligatory.\n Registration form \nProgram (provisional; will be updated)\n\n\n\n13.15-13.50\nRoadshow of the Language Bank of Finland (Krister Lindén and Mietta Lennes) \n\nIntroduction to FIN-CLARIN and the Language Bank of Finland\nKorp interface: example searches of text and speech corpora\, map feature\, links to external documents\n\n\n\n\n13.50-14.45\n\nDiscussion and an interview with the audience \nCoffee \nSummary\n\n\n14.45-15.30\nBrief presentations by researchers \n\nKaius Sinnemäki (presentation title to be announced)\nFlorencia Quesada and Nora Fabritius: Mapping representations of power in turn-of-the century Guatemala City\n\n\n\n\n\n \nWhat is the Language Bank of Finland?\nThe Language Bank of Finland (Kielipankki) is a collection of services for researchers who use language materials in their work. The Language Bank offers a wide collection of text and speech corpora on which researchers and students can run versatile queries. It is also possible to study and process materials using the tools available in the Language Bank or to download materials to your local computer. Many of the corpora in the Language Bank of Finland are openly available\, some of them require you to log in with your university credentials. Access rights to restricted materials can be applied online. Regular use of the Language Bank of Finland is free for researchers and students. \nThe services of the Language Bank of Finland are maintained and developed by FIN-CLARIN\, a consortium of Finnish universities and research organizations coordinated by the University of Helsinki. Researchers and research groups can deposit their language materials with FIN-CLARIN for redistribution. FIN-CLARIN is part of the international research infrastructure consortium CLARIN ERIC.
URL:https://www.kielipankki.fi/tapahtumat/roadshow-hcas-2017/
LOCATION:Helsinki Collegium of Advanced Studies\, Fabianinkatu 24\, Helsinki\, Suomi
CATEGORIES:Events in English,Roadshow
ORGANIZER;CN="FIN-CLARIN":MAILTO:fin-clarin (ATT) helsinki.fi
END:VEVENT
END:VCALENDAR