BEGIN:VCALENDAR
VERSION:2.0
PRODID:-//Kielipankki - ECPv6.15.20//NONSGML v1.0//EN
CALSCALE:GREGORIAN
METHOD:PUBLISH
X-ORIGINAL-URL:https://www.kielipankki.fi
X-WR-CALDESC:Tapahtumat Kielipankki
REFRESH-INTERVAL;VALUE=DURATION:PT1H
X-Robots-Tag:noindex
X-PUBLISHED-TTL:PT1H
BEGIN:VTIMEZONE
TZID:Europe/Helsinki
BEGIN:DAYLIGHT
TZOFFSETFROM:+0200
TZOFFSETTO:+0300
TZNAME:EEST
DTSTART:20190331T010000
END:DAYLIGHT
BEGIN:STANDARD
TZOFFSETFROM:+0300
TZOFFSETTO:+0200
TZNAME:EET
DTSTART:20191027T010000
END:STANDARD
BEGIN:DAYLIGHT
TZOFFSETFROM:+0200
TZOFFSETTO:+0300
TZNAME:EEST
DTSTART:20200329T010000
END:DAYLIGHT
BEGIN:STANDARD
TZOFFSETFROM:+0300
TZOFFSETTO:+0200
TZNAME:EET
DTSTART:20201025T010000
END:STANDARD
BEGIN:DAYLIGHT
TZOFFSETFROM:+0200
TZOFFSETTO:+0300
TZNAME:EEST
DTSTART:20210328T010000
END:DAYLIGHT
BEGIN:STANDARD
TZOFFSETFROM:+0300
TZOFFSETTO:+0200
TZNAME:EET
DTSTART:20211031T010000
END:STANDARD
END:VTIMEZONE
BEGIN:VEVENT
DTSTART;TZID=Europe/Helsinki:20200212T160000
DTEND;TZID=Europe/Helsinki:20200212T180000
DTSTAMP:20260423T085937
CREATED:20200120T120212Z
LAST-MODIFIED:20200212T081605Z
UID:10707-1581523200-1581530400@www.kielipankki.fi
SUMMARY:Kielipankki kiertueella Vaasan yliopistossa
DESCRIPTION:Kielipankki esittäytyy Vaasan yliopistossa\nKielipankki järjestää jälleen vuonna 2020 esittelytilaisuuksia FIN-CLARIN-konsortion jäsenorganisaatioissa. Vierailemme Vaasan yliopistossa tiistaina 12.2.2020 klo 16-18. Tervetuloa näkemään\, kuulemaan ja kysymään\, mitä kaikkea Kielipankki tarjoaa eri alojen opiskelijoille ja tutkijoille! \nTilaisuuden aikana näytämme käytännön esimerkkejä siitä\, miten tekstiä tai puhetta sisältävistä aineistoista voidaan tehdä monipuolisia ja tehokkaita hakuja ja miten vaikkapa keskustelufoorumi- tai sanomalehtiaineistoja voidaan hyödyntää moniin tieteenaloihin liittyvien tutkimuskysymysten ratkaisemisessa. Kerromme myös muista Kielipankin palveluista ja työkaluista.  \nKahvitarjoilun vuoksi toivomme ennakkoilmoittautumista torstaihin 6.2. klo 12:00 mennessä. Ilmoittautuminen ei kuitenkaan ole pakollinen! \n> Ilmoittautumislomake \nPaikka: sali F118\, Fabriikki \nAlustava ohjelma\n\n\n\n15.45-16.15\nKahvitarjoilu\n\n\n16.15-17.45\nKielipankki ja FIN-CLARIN (Mietta Lennes ja Tero Aalto) \nKeskustelua\n\n\n\n\n\n 
URL:https://www.kielipankki.fi/tapahtumat/roadshow-vaasa-2020-02-12/
LOCATION:Vaasan yliopisto\, Vaasa\, Suomi
CATEGORIES:Roadshow
ORGANIZER;CN="FIN-CLARIN":MAILTO:fin-clarin (ATT) helsinki.fi
END:VEVENT
END:VCALENDAR