BEGIN:VCALENDAR
VERSION:2.0
PRODID:-//Kielipankki - ECPv6.15.20//NONSGML v1.0//EN
CALSCALE:GREGORIAN
METHOD:PUBLISH
X-WR-CALNAME:Kielipankki
X-ORIGINAL-URL:https://www.kielipankki.fi
X-WR-CALDESC:Tapahtumat Kielipankki
REFRESH-INTERVAL;VALUE=DURATION:PT1H
X-Robots-Tag:noindex
X-PUBLISHED-TTL:PT1H
BEGIN:VTIMEZONE
TZID:Europe/Helsinki
BEGIN:DAYLIGHT
TZOFFSETFROM:+0200
TZOFFSETTO:+0300
TZNAME:EEST
DTSTART:20220327T010000
END:DAYLIGHT
BEGIN:STANDARD
TZOFFSETFROM:+0300
TZOFFSETTO:+0200
TZNAME:EET
DTSTART:20221030T010000
END:STANDARD
BEGIN:DAYLIGHT
TZOFFSETFROM:+0200
TZOFFSETTO:+0300
TZNAME:EEST
DTSTART:20230326T010000
END:DAYLIGHT
BEGIN:STANDARD
TZOFFSETFROM:+0300
TZOFFSETTO:+0200
TZNAME:EET
DTSTART:20231029T010000
END:STANDARD
BEGIN:DAYLIGHT
TZOFFSETFROM:+0200
TZOFFSETTO:+0300
TZNAME:EEST
DTSTART:20240331T010000
END:DAYLIGHT
BEGIN:STANDARD
TZOFFSETFROM:+0300
TZOFFSETTO:+0200
TZNAME:EET
DTSTART:20241027T010000
END:STANDARD
END:VTIMEZONE
BEGIN:VEVENT
DTSTART;TZID=Europe/Helsinki:20230606T110000
DTEND;TZID=Europe/Helsinki:20230606T170000
DTSTAMP:20260424T012039
CREATED:20230509T111917Z
LAST-MODIFIED:20230509T111917Z
UID:23892-1686049200-1686070800@www.kielipankki.fi
SUMMARY:FIN-CLARIAH Summer Event
DESCRIPTION:FIN-CLARIAH Summer Event\nThis event is organized by and for the people involved in the FIN-CLARIAH project. The workshop takes place at the Life Science Center in Keilaniemi\, Espoo. \nProgram and further details \n  \n<< FIN-CLARIAH Overview
URL:https://www.kielipankki.fi/tapahtumat/fin-clariah-summer-event-2023/
LOCATION:CSC – Tieteen tietotekniikan keskus\, Life Science Center\, Keilaranta 14 C\, Espoo\, Suomi
CATEGORIES:Events in English,Kongressit, seminaarit ja työpajat
END:VEVENT
END:VCALENDAR