BEGIN:VCALENDAR
VERSION:2.0
PRODID:-//Kielipankki - ECPv6.15.20//NONSGML v1.0//EN
CALSCALE:GREGORIAN
METHOD:PUBLISH
X-WR-CALNAME:Kielipankki
X-ORIGINAL-URL:https://www.kielipankki.fi
X-WR-CALDESC:Tapahtumat Kielipankki
REFRESH-INTERVAL;VALUE=DURATION:PT1H
X-Robots-Tag:noindex
X-PUBLISHED-TTL:PT1H
BEGIN:VTIMEZONE
TZID:Europe/Helsinki
BEGIN:DAYLIGHT
TZOFFSETFROM:+0200
TZOFFSETTO:+0300
TZNAME:EEST
DTSTART:20210328T010000
END:DAYLIGHT
BEGIN:STANDARD
TZOFFSETFROM:+0300
TZOFFSETTO:+0200
TZNAME:EET
DTSTART:20211031T010000
END:STANDARD
BEGIN:DAYLIGHT
TZOFFSETFROM:+0200
TZOFFSETTO:+0300
TZNAME:EEST
DTSTART:20220327T010000
END:DAYLIGHT
BEGIN:STANDARD
TZOFFSETFROM:+0300
TZOFFSETTO:+0200
TZNAME:EET
DTSTART:20221030T010000
END:STANDARD
BEGIN:DAYLIGHT
TZOFFSETFROM:+0200
TZOFFSETTO:+0300
TZNAME:EEST
DTSTART:20230326T010000
END:DAYLIGHT
BEGIN:STANDARD
TZOFFSETFROM:+0300
TZOFFSETTO:+0200
TZNAME:EET
DTSTART:20231029T010000
END:STANDARD
END:VTIMEZONE
BEGIN:VEVENT
DTSTART;TZID=Europe/Helsinki:20220603T110000
DTEND;TZID=Europe/Helsinki:20220603T160000
DTSTAMP:20260420T112148
CREATED:20220603T050055Z
LAST-MODIFIED:20220602T152548Z
UID:20265-1654254000-1654272000@www.kielipankki.fi
SUMMARY:FIN-CLARIAH-kesätapahtuma
DESCRIPTION:FIN-CLARIAH-kesätapahtuma\nFIN-CLARIAH-infrastruktuurihankkeen eri työryhmien jäsenet ja kutsutut yhteistyötahot kokoontuvat vaihtamaan ajatuksia ja iloitsemaan kesästä. \nTapahtumassa esiteltävät posterit
URL:https://www.kielipankki.fi/tapahtumat/fin-clariah-kesatapahtuma/
LOCATION:Kansalliskirjasto\, Yliopistonkatu 1\, Helsinki
CATEGORIES:Kongressit, seminaarit ja työpajat
END:VEVENT
END:VCALENDAR